BEGIN:VCALENDAR
VERSION:2.0
PRODID:-//ChamberMaster//Event Calendar 2.0//EN
METHOD:PUBLISH
X-PUBLISHED-TTL:P3D
REFRESH-INTERVAL:P3D
CALSCALE:GREGORIAN
BEGIN:VEVENT
DTSTART:20250809T210000Z
DTEND:20250810T223000Z
X-MICROSOFT-CDO-ALLDAYEVENT:FALSE
SUMMARY:Shakespeare on the Water Midsummers Night Dream
DESCRIPTION:A float in\, water-access only performance in Sausalito. Secret location disclosed upon ticket purchase!\n\n\n\nCome at 2pm to hear live pre-show music!\n\nShow will begin at 2:30pm and run time will be ONE HOUR.\n\n\n\nKayak and paddleboard rentals available via SeaTrek in Sausalito.\n\nMention Shakespeare on the Water when returning to SeaTrek after the show for a discounted rate.\n\nwww.seatrek.com
X-ALT-DESC;FMTTYPE=text/html:A float in\, water-access only performance in Sausalito. Secret location disclosed upon ticket purchase!<br />\n<br />\nCome at 2pm to hear live pre-show music!<br />\nShow will begin at 2:30pm and run time will be ONE HOUR.<br />\n<br />\nKayak and paddleboard rentals available via SeaTrek in Sausalito.<br />\n<strong>Mention Shakespeare on the Water when returning to SeaTrek after the show for a discounted rate.</strong><br />\n<a href="https://www.seatrek.com/rentals-sausalito/#rental-prices" target="_blank">www.seatrek.com</a>
LOCATION:A Midsummer Nights Dream A float in\, water-access only performance in Sausalito. Secret location disclosed upon ticket purchase! Come at 2pm to hear live pre-show music! Show will begin at 2:30pm and run time will be ONE HOUR. Kayak and paddleboard rentals available via SeaTrek in Sausalito. Mention Shakespeare on the Water when returning to SeaTrek after the show for a discounted rate.
UID:e.1780.6181
SEQUENCE:3
DTSTAMP:20260420T114953Z
URL:https://www.sausalito.org/events/details/shakespeare-on-the-water-midsummers-night-dream-6181
END:VEVENT

END:VCALENDAR
