BEGIN:VCALENDAR
VERSION:2.0
PRODID:-//ChamberMaster//Event Calendar 2.0//EN
METHOD:PUBLISH
X-PUBLISHED-TTL:P3D
REFRESH-INTERVAL:P3D
CALSCALE:GREGORIAN
BEGIN:VEVENT
DTSTART:20190126T210000Z
DTEND:20190127T010000Z
X-MICROSOFT-CDO-ALLDAYEVENT:FALSE
SUMMARY:Sausalito's Souper Bowl
DESCRIPTION:The big game is coming to Sausalito and we are not talking football! Sausalito's fourth annual Souper Bowl is pitting Downtown and Newtown restaurants against each other to find out who has the best soup in Sausalito. The Souper Bowl is on Saturday January 26th from 1:00 pm to 5:00 pm. Restaurants square off in the hopes of winning the Lom-Bowl-Di trophy! Tickets cost $15. Each ticket enables ticket holders to visit all the restaurants\, taste soup and then vote for their favorites. Madrigal Family Winery is offering them a two-for-one glass of wine. The line-up is stacked with the best restaurants Sausalito has to offer!
X-ALT-DESC;FMTTYPE=text/html:The big game is coming to Sausalito and we are not talking football! Sausalito&rsquo\;s fourth annual Souper Bowl is pitting Downtown and Newtown restaurants against each other to find out who has the best soup in Sausalito. The Souper Bowl is on Saturday January 26th from 1:00 pm to 5:00 pm. Restaurants square off in the hopes of winning the Lom-Bowl-Di trophy! Tickets cost $15. Each ticket enables ticket holders to visit all the restaurants\, taste soup and then vote for their favorites. Madrigal Family Winery is offering them a two-for-one glass of wine. The line-up is stacked with the best restaurants Sausalito has to offer!
LOCATION:Downtown and Newtown Sausalito
UID:e.1780.1856
SEQUENCE:3
DTSTAMP:20260424T070204Z
URL:https://www.sausalito.org/events/details/sausalito-s-souper-bowl-1856
END:VEVENT

END:VCALENDAR
