BEGIN:VCALENDAR
VERSION:2.0
PRODID:-//ChamberMaster//Event Calendar 2.0//EN
METHOD:PUBLISH
X-PUBLISHED-TTL:P3D
REFRESH-INTERVAL:P3D
CALSCALE:GREGORIAN
BEGIN:VEVENT
DTSTART:20201030T020000Z
DTEND:20201028T020000Z
X-MICROSOFT-CDO-ALLDAYEVENT:FALSE
SUMMARY:Sausalito City Council Meeting
DESCRIPTION:Sausalito City Council Meeting
X-ALT-DESC;FMTTYPE=text/html:<a href="https://www.sausalito.gov/city-government/city-council/meetings-and-agendas">Sausalito City Council Meeting</a>
LOCATION:420 Litho Street Sausalito Sausalito City Council Meeting - information for the agenda and zoom can be found at https://www.sausalito.gov/city-government/city-council/meetings-and-agendas
UID:e.1780.2661
SEQUENCE:3
DTSTAMP:20260421T100338Z
URL:https://www.sausalito.org/events/details/sausalito-city-council-meeting-2661
END:VEVENT

END:VCALENDAR
