BEGIN:VCALENDAR
VERSION:2.0
PRODID:-//ChamberMaster//Event Calendar 2.0//EN
METHOD:PUBLISH
X-PUBLISHED-TTL:P3D
REFRESH-INTERVAL:P3D
CALSCALE:GREGORIAN
BEGIN:VEVENT
DTSTART:20260122T000000Z
DTEND:20260122T020000Z
X-MICROSOFT-CDO-ALLDAYEVENT:FALSE
SUMMARY:Reducing Waste in Everyday Life
DESCRIPTION:Curious about how you can reduce waste in your everyday life?  Join us for an interactive workshop to discover practical\, everyday ways to reduce waste at home and in your community.\n\n\n\nWhat To Expect\n\n	Practical everyday tips\n	Connect with local partners\n	Access resources\n	How to sort common items\n	Low-cost swaps + ideas that work for renters and families\n	Refreshments\n\n\n\nRegister: events.lnt.org/CCC-Reducing-Waste-Workshop  \n\n\n\n Le interesa aprender c mo reducir el desperdicio en su vida diaria?\n\nAcomp  enos en este taller interactivo para descubrir formas pr cticas y cotidianas de reducir el desperdicio en el hogar y en su comunidad.\n\n\n\nQu  Puede Esperar\n\n	Consejos pr cticos para la vida diaria\n	Conexi n con socios locales\n	Acceso a recursos\n	C mo clasificar art culos de uso com n\n	Alternativas de bajo costo e ideas que funcionan para personas que rentan y para familias\n	Refrigerios\n\n\n\nReg strese: events.lnt.org/CCC-Reducing-Waste-Workshop
X-ALT-DESC;FMTTYPE=text/html:Curious about how you can reduce waste in your everyday life?&nbsp\; Join us for an interactive workshop to discover practical\, everyday ways to reduce waste at home and in your community.<br />\n<br />\nWhat To Expect\n<ul>\n	<li>Practical everyday tips</li>\n	<li>Connect with local partners</li>\n	<li>Access resources</li>\n	<li>How to sort common items</li>\n	<li>Low-cost swaps + ideas that work for renters and families</li>\n	<li>Refreshments</li>\n</ul>\n<br />\nRegister: events.lnt.org/CCC-Reducing-Waste-Workshop &mdash\;<br />\n<br />\n&iquest\;Le interesa aprender c&oacute\;mo reducir el desperdicio en su vida diaria?<br />\nAcomp&aacute\;&ntilde\;enos en este taller interactivo para descubrir formas pr&aacute\;cticas y cotidianas de reducir el desperdicio en el hogar y en su comunidad.<br />\n<br />\nQu&eacute\; Puede Esperar\n<ul>\n	<li>Consejos pr&aacute\;cticos para la vida diaria</li>\n	<li>Conexi&oacute\;n con socios locales</li>\n	<li>Acceso a recursos</li>\n	<li>C&oacute\;mo clasificar art&iacute\;culos de uso com&uacute\;n</li>\n	<li>Alternativas de bajo costo e ideas que funcionan para personas que rentan y para familias</li>\n	<li>Refrigerios</li>\n</ul>\n<br />\nReg&iacute\;strese:&nbsp\;events.lnt.org/CCC-Reducing-Waste-Workshop
LOCATION:Marin City Community Services District Community Room 640 Drake Ave\, 94965
UID:e.1780.7300
SEQUENCE:3
DTSTAMP:20260425T021548Z
URL:https://www.sausalito.org/events/details/reducing-waste-in-everyday-life-7300
END:VEVENT

END:VCALENDAR
