BEGIN:VCALENDAR
VERSION:2.0
PRODID:-//ChamberMaster//Event Calendar 2.0//EN
METHOD:PUBLISH
X-PUBLISHED-TTL:P3D
REFRESH-INTERVAL:P3D
CALSCALE:GREGORIAN
BEGIN:VEVENT
DTSTART:20260424T180000Z
DTEND:20260511T000000Z
X-MICROSOFT-CDO-ALLDAYEVENT:FALSE
SUMMARY:Marin Open Studios Showcase Gallery
DESCRIPTION:Marin Open Studios Showcase Gallery\n\nApril 24   May 10\n\nHours: 11 am   5 pm\n\n(closed Monday & Tuesday)\n\n750 Bridgeway\n\nThe Sausalito Center for the Arts will host the Marin Open Studios Showcase Gallery\, featuring work from 260 artists across Marin County. This dynamic exhibition highlights a wide range of mediums\, including painting\, sculpture\, ceramics\, photography\, textiles\, and jewelry.\n\n\n\nVisitors can explore diverse styles\, connect with the local creative community\, and find inspiration before embarking on self-guided studio tours. The gallery serves as an ideal starting point to discover new artists and support Marin's vibrant arts scene.\n\nTour guides are available for pick up.
X-ALT-DESC;FMTTYPE=text/html:<p><strong>Marin Open Studios Showcase Gallery<br />\nApril 24 &ndash\; May 10</strong><br />\nHours:&nbsp\;11 am &ndash\; 5 pm<br />\n(closed Monday &amp\; Tuesday)<br />\n750 Bridgeway</p>\n\n<p>The Sausalito Center for the Arts will host the Marin Open Studios Showcase Gallery\, featuring work from 260 artists across Marin County. This dynamic exhibition highlights a wide range of mediums\, including painting\, sculpture\, ceramics\, photography\, textiles\, and jewelry.<br />\n<br />\nVisitors can explore diverse styles\, connect with the local creative community\, and find inspiration before embarking on self-guided studio tours. The gallery serves as an ideal starting point to discover new artists and support Marin&rsquo\;s vibrant arts scene.</p>\n\n<p>Tour guides are available for pick up.</p>\n
LOCATION:Sausalito Center for the Arts 750 Bridgeway\, Sausalito
UID:e.1780.7989
SEQUENCE:3
DTSTAMP:20260419T190349Z
URL:https://www.sausalito.org/events/details/marin-open-studios-showcase-gallery-7989
END:VEVENT

END:VCALENDAR
