BEGIN:VCALENDAR
VERSION:2.0
PRODID:-//ChamberMaster//Event Calendar 2.0//EN
METHOD:PUBLISH
X-PUBLISHED-TTL:P3D
REFRESH-INTERVAL:P3D
CALSCALE:GREGORIAN
BEGIN:VEVENT
DTSTART:20181017T160000Z
DTEND:20181017T170000Z
X-MICROSOFT-CDO-ALLDAYEVENT:FALSE
SUMMARY:Google Live Stream Class Chamber Members Only
DESCRIPTION:Google Live Stream Class\n\n			Chamber Members Only\n			\n			\n			\n		\n	\n\n\n\n\n\n	\n		\n			\n			 \n\n			\n			\n			Topic:\n\n			"Drive Holiday Shopping to Your Business"\n\n			 \n\n			Seating is limited for this FREE live stream class provided by Google. You must RSVP to this event. 1-Hour of ideas brought to you by Google instructors.
X-ALT-DESC;FMTTYPE=text/html:<div class="gl-contains-text" style="color: rgb(0\, 0\, 0)\; font-family: -webkit-standard\; font-style: normal\; font-variant-caps: normal\; font-weight: normal\; letter-spacing: normal\; orphans: auto\; text-align: -webkit-left\; text-indent: 0px\; text-transform: none\; white-space: normal\; widows: auto\; word-spacing: 0px\; -webkit-text-size-adjust: auto\; -webkit-text-stroke-width: 0px\;">\n<table border="0" cellpadding="0" cellspacing="0" style="border-collapse: collapse\; table-layout: fixed\;" width="100%">\n	<tbody>\n		<tr>\n			<td align="left" class="editor-text article-heading-text" style="-webkit-font-smoothing: antialiased\; font-family: Arial\, Verdana\, Helvetica\, sans-serif\; font-size: 16px\; color: rgb(10\, 116\, 219)\; text-align: left\; display: block\; word-wrap: break-word\; font-weight: bold\; padding: 10px 10px 10px 20px\;" valign="top">\n			<div class="text-container galileo-ap-content-editor">\n			<div>\n			<div align="center" style="text-align: center\;">Google Live Stream Class</div>\n\n			<div align="center" style="text-align: center\;">Chamber Members Only</div>\n			</div>\n			</div>\n			</td>\n		</tr>\n	</tbody>\n</table>\n</div>\n\n<div class="gl-contains-text" style="color: rgb(0\, 0\, 0)\; font-family: -webkit-standard\; font-style: normal\; font-variant-caps: normal\; font-weight: normal\; letter-spacing: normal\; orphans: auto\; text-align: -webkit-left\; text-indent: 0px\; text-transform: none\; white-space: normal\; widows: auto\; word-spacing: 0px\; -webkit-text-size-adjust: auto\; -webkit-text-stroke-width: 0px\;">\n<table border="0" cellpadding="0" cellspacing="0" style="border-collapse: collapse\; table-layout: fixed\;" width="100%">\n	<tbody>\n		<tr>\n			<td align="left" class="editor-text article-text" style="-webkit-font-smoothing: antialiased\; font-family: Arial\, Verdana\, Helvetica\, sans-serif\; font-size: 12px\; color: rgb(2\, 2\, 2)\; text-align: left\; display: block\; word-wrap: break-word\; padding: 10px 10px 10px 20px\;" valign="top">\n			<div>&nbsp\;</div>\n\n			<div class="text-container galileo-ap-content-editor">\n			<div>\n			<div align="center" style="text-align: center\;"><span style="font-size: 14px\; font-weight: bold\;">Topic:</span></div>\n\n			<div align="center" style="text-align: center\;"><span style="font-size: 14px\; font-weight: bold\;">&quot\;Drive Holiday Shopping to Your Business&quot\;</span></div>\n\n			<div>&nbsp\;</div>\n\n			<div><span style="font-size: 14px\;">Seating is limited for this FREE live stream class provided by Google. You must RSVP to this event. 1-Hour of ideas brought to you by Google instructors.</span></div>\n			</div>\n			</div>\n			</td>\n		</tr>\n	</tbody>\n</table>\n</div>\n
LOCATION:To Be Announced
UID:e.1780.1847
SEQUENCE:3
DTSTAMP:20260424T131614Z
URL:https://www.sausalito.org/events/details/google-live-stream-class-chamber-members-only-1847
END:VEVENT

END:VCALENDAR
