BEGIN:VCALENDAR
VERSION:2.0
PRODID:-//ChamberMaster//Event Calendar 2.0//EN
METHOD:PUBLISH
X-PUBLISHED-TTL:P3D
REFRESH-INTERVAL:P3D
CALSCALE:GREGORIAN
BEGIN:VEVENT
DTSTART:20220611T183000Z
DTEND:20220611T220000Z
X-MICROSOFT-CDO-ALLDAYEVENT:FALSE
SUMMARY:Belvedere Cove Classic Regatta Aboard Brigantine Matthew Turner
DESCRIPTION:Matthew Turner will be racing for the first time in this exciting annual San Francisco Bay classic boat tradition! Watch the professional crew sail the ship\, trimming for speed and tactically navigating the ship to round the marks as quickly as possible. Other classic ships and smaller boats racing in their respective fleets can be seen on the race course.\n\nA Sandwich lunch\, snacks and non alcoholic beverages are included. The end time may be before or after 3:00 depending on the time it takes to sail the course.\n\nPost race festivities at the yacht club starting at 3:00 are open to all: No host BBQ\, live music and classic ship viewing on the docks.
X-ALT-DESC;FMTTYPE=text/html:<div>\n<div>\n<div>\n<div>\n<div>\n<p><span style="font-family:times new roman"><strong>Matthew Turner will be racing for the first time in this exciting annual San Francisco Bay classic boat tradition!&nbsp\;</strong>Watch the professional crew sail the ship\, trimming for speed and tactically navigating the ship to round the marks as quickly as possible. Other classic ships and smaller boats racing in their respective fleets can be seen on the race course.</span></p>\n\n<p><span style="font-family:times new roman">A Sandwich lunch\, snacks and non alcoholic beverages are included. The end time may be before or after 3:00 depending on the time it takes to sail the course.</span></p>\n\n<p><span style="font-family:times new roman">Post race festivities at the yacht club starting at 3:00 are open to all: No host BBQ\, live music and classic ship viewing on the docks.</span></p>\n</div>\n</div>\n</div>\n</div>\n</div>\n\n<p>&nbsp\;</p>\n<br />\n&nbsp\;
LOCATION:The ship will be docked at the San Francisco Yacht Club in Tiburon for the day. Parking is available in downtown Tiburon paid lots.
UID:e.1780.3495
SEQUENCE:3
DTSTAMP:20260421T090655Z
URL:https://www.sausalito.org/events/details/belvedere-cove-classic-regatta-aboard-brigantine-matthew-turner-3495
END:VEVENT

END:VCALENDAR
