BEGIN:VCALENDAR
VERSION:2.0
PRODID:-//ChamberMaster//Event Calendar 2.0//EN
METHOD:PUBLISH
X-PUBLISHED-TTL:P3D
REFRESH-INTERVAL:P3D
CALSCALE:GREGORIAN
BEGIN:VEVENT
DTSTART:20260503T210000Z
DTEND:20260503T230000Z
X-MICROSOFT-CDO-ALLDAYEVENT:FALSE
SUMMARY:A World Less Traveled — An exhibition of graphite drawings by Daniel Merriam
DESCRIPTION:Join us for the unveiling of Daniel Merriam's exhibition A World Less Traveled\, alongside the release of his new book\, with an opportunity to meet the artist during a reception and book signing. Experience a collection that explores journeys beyond the familiar both physical and personal through evocative visuals and narrative. Light refreshments will be served. To reserve your spot\, rsvp@danielmerriam.com
X-ALT-DESC;FMTTYPE=text/html:<span style="font-family:helvetica\,arial\,sans-serif\; font-size:14px">Join us for the unveiling of Daniel Merriam&#39\;s exhibition&nbsp\;<em>A World Less Traveled</em>\, alongside the release of his new book\, with an opportunity to meet the artist during a reception and book signing. Experience a collection that explores journeys beyond the familiar&mdash\;both physical and personal&mdash\;through evocative visuals and narrative. Light refreshments will be served. To reserve your spot\,&nbsp\;</span><a href="mailto:rsvp@danielmerriam.com" style="color: rgb(17\, 85\, 204)\; font-family: Helvetica\, Arial\, sans-serif\; font-size: 14px\;" target="_blank">rsvp@danielmerriam.com</a>
LOCATION:Daniel Merriam Gallery 565 Bridgeway\, Sausalito\, CA
UID:e.1780.7971
SEQUENCE:3
DTSTAMP:20260420T030403Z
URL:https://www.sausalito.org/events/details/a-world-less-traveled-an-exhibition-of-graphite-drawings-by-daniel-merriam-7971
END:VEVENT

END:VCALENDAR
